BEGIN:VCALENDAR
VERSION:2.0
PRODID:-//Agence Dacapo - ECPv6.15.20//NONSGML v1.0//EN
CALSCALE:GREGORIAN
METHOD:PUBLISH
X-ORIGINAL-URL:https://www.dacapo-ch.com
X-WR-CALDESC:Évènements pour Agence Dacapo
REFRESH-INTERVAL;VALUE=DURATION:PT1H
X-Robots-Tag:noindex
X-PUBLISHED-TTL:PT1H
BEGIN:VTIMEZONE
TZID:Europe/Paris
BEGIN:DAYLIGHT
TZOFFSETFROM:+0100
TZOFFSETTO:+0200
TZNAME:CEST
DTSTART:20150329T010000
END:DAYLIGHT
BEGIN:STANDARD
TZOFFSETFROM:+0200
TZOFFSETTO:+0100
TZNAME:CET
DTSTART:20151025T010000
END:STANDARD
BEGIN:DAYLIGHT
TZOFFSETFROM:+0100
TZOFFSETTO:+0200
TZNAME:CEST
DTSTART:20160327T010000
END:DAYLIGHT
BEGIN:STANDARD
TZOFFSETFROM:+0200
TZOFFSETTO:+0100
TZNAME:CET
DTSTART:20161030T010000
END:STANDARD
BEGIN:DAYLIGHT
TZOFFSETFROM:+0100
TZOFFSETTO:+0200
TZNAME:CEST
DTSTART:20170326T010000
END:DAYLIGHT
BEGIN:STANDARD
TZOFFSETFROM:+0200
TZOFFSETTO:+0100
TZNAME:CET
DTSTART:20171029T010000
END:STANDARD
END:VTIMEZONE
BEGIN:VEVENT
DTSTART;VALUE=DATE:20160521
DTEND;VALUE=DATE:20160522
DTSTAMP:20260420T235719
CREATED:20160203T085329Z
LAST-MODIFIED:20160203T085329Z
UID:383-1463788800-1463875199@www.dacapo-ch.com
SUMMARY:Camerata du Léman
DESCRIPTION:
URL:https://www.dacapo-ch.com/concert/camerata-du-leman-3/
LOCATION:Théâtre La Coupole\, 2 Croisee des Lys\, Saint-Louis\, 68300\, France
ATTACH;FMTTYPE=image/png:https://www.dacapo-ch.com/wp-content/uploads/2016/02/ev_camerata_du_leman.png
ORGANIZER;CN="Agence Da-Capo":MAILTO:info@dacapo-ch.com
END:VEVENT
BEGIN:VEVENT
DTSTART;VALUE=DATE:20160527
DTEND;VALUE=DATE:20160528
DTSTAMP:20260420T235719
CREATED:20160203T085412Z
LAST-MODIFIED:20160203T085412Z
UID:384-1464307200-1464393599@www.dacapo-ch.com
SUMMARY:Les MiniStrings
DESCRIPTION:
URL:https://www.dacapo-ch.com/concert/les-ministrings/
LOCATION:Église de Compesières\, Route de Cugny 99\, Genève\, 1257\, Suisse
CATEGORIES:Les Musicales de Compesières
ATTACH;FMTTYPE=image/png:https://www.dacapo-ch.com/wp-content/uploads/2016/02/ev_musicales_de_compesieres.png
ORGANIZER;CN="Agence Da-Capo":MAILTO:info@dacapo-ch.com
END:VEVENT
BEGIN:VEVENT
DTSTART;VALUE=DATE:20160528
DTEND;VALUE=DATE:20160529
DTSTAMP:20260420T235719
CREATED:20160203T085447Z
LAST-MODIFIED:20160203T085536Z
UID:385-1464393600-1464479999@www.dacapo-ch.com
SUMMARY:Camerata du Léman
DESCRIPTION:
URL:https://www.dacapo-ch.com/concert/camerata-du-leman-4/
LOCATION:Église de Compesières\, Route de Cugny 99\, Genève\, 1257\, Suisse
CATEGORIES:Les Musicales de Compesières
ATTACH;FMTTYPE=image/png:https://www.dacapo-ch.com/wp-content/uploads/2016/02/ev_musicales_de_compesieres.png
ORGANIZER;CN="Agence Da-Capo":MAILTO:info@dacapo-ch.com
END:VEVENT
BEGIN:VEVENT
DTSTART;VALUE=DATE:20160529
DTEND;VALUE=DATE:20160530
DTSTAMP:20260420T235719
CREATED:20160203T085523Z
LAST-MODIFIED:20160203T085523Z
UID:386-1464480000-1464566399@www.dacapo-ch.com
SUMMARY:Maîtrise du Haut Valais
DESCRIPTION:
URL:https://www.dacapo-ch.com/concert/maitrise-du-haut-valais/
LOCATION:Église de Compesières\, Route de Cugny 99\, Genève\, 1257\, Suisse
CATEGORIES:Les Musicales de Compesières
ATTACH;FMTTYPE=image/png:https://www.dacapo-ch.com/wp-content/uploads/2016/02/ev_musicales_de_compesieres.png
ORGANIZER;CN="Agence Da-Capo":MAILTO:info@dacapo-ch.com
END:VEVENT
END:VCALENDAR