BEGIN:VCALENDAR
VERSION:2.0
PRODID:-//Agence Dacapo - ECPv6.15.20//NONSGML v1.0//EN
CALSCALE:GREGORIAN
METHOD:PUBLISH
X-WR-CALNAME:Agence Dacapo
X-ORIGINAL-URL:https://www.dacapo-ch.com
X-WR-CALDESC:Évènements pour Agence Dacapo
REFRESH-INTERVAL;VALUE=DURATION:PT1H
X-Robots-Tag:noindex
X-PUBLISHED-TTL:PT1H
BEGIN:VTIMEZONE
TZID:Europe/Paris
BEGIN:DAYLIGHT
TZOFFSETFROM:+0100
TZOFFSETTO:+0200
TZNAME:CEST
DTSTART:20150329T010000
END:DAYLIGHT
BEGIN:STANDARD
TZOFFSETFROM:+0200
TZOFFSETTO:+0100
TZNAME:CET
DTSTART:20151025T010000
END:STANDARD
BEGIN:DAYLIGHT
TZOFFSETFROM:+0100
TZOFFSETTO:+0200
TZNAME:CEST
DTSTART:20160327T010000
END:DAYLIGHT
BEGIN:STANDARD
TZOFFSETFROM:+0200
TZOFFSETTO:+0100
TZNAME:CET
DTSTART:20161030T010000
END:STANDARD
BEGIN:DAYLIGHT
TZOFFSETFROM:+0100
TZOFFSETTO:+0200
TZNAME:CEST
DTSTART:20170326T010000
END:DAYLIGHT
BEGIN:STANDARD
TZOFFSETFROM:+0200
TZOFFSETTO:+0100
TZNAME:CET
DTSTART:20171029T010000
END:STANDARD
END:VTIMEZONE
BEGIN:VEVENT
DTSTART;VALUE=DATE:20160709
DTEND;VALUE=DATE:20160710
DTSTAMP:20260420T202222
CREATED:20160203T090031Z
LAST-MODIFIED:20160203T090031Z
UID:391-1468022400-1468108799@www.dacapo-ch.com
SUMMARY:Nima Sarkechik
DESCRIPTION:
URL:https://www.dacapo-ch.com/concert/nima-sarkechik-2/
LOCATION:Le Triton\, 11 Bis Rue du Coq Français\, Lilas\, 93260\, France
ATTACH;FMTTYPE=image/png:https://www.dacapo-ch.com/wp-content/uploads/2016/02/ev_nima_sarkechik.png
ORGANIZER;CN="Agence Da-Capo":MAILTO:info@dacapo-ch.com
END:VEVENT
BEGIN:VEVENT
DTSTART;VALUE=DATE:20160712
DTEND;VALUE=DATE:20160713
DTSTAMP:20260420T202222
CREATED:20160203T090134Z
LAST-MODIFIED:20160203T090134Z
UID:392-1468281600-1468367999@www.dacapo-ch.com
SUMMARY:La Belle de Cadix
DESCRIPTION:Dernière représentation
URL:https://www.dacapo-ch.com/concert/la-belle-de-cadix/
LOCATION:Opéra de Vichy\, 1 Rue du Casino\, Vichy\, 03200\, France
ATTACH;FMTTYPE=image/png:https://www.dacapo-ch.com/wp-content/uploads/2016/02/ev_leonie_renaud.png
ORGANIZER;CN="Agence Da-Capo":MAILTO:info@dacapo-ch.com
END:VEVENT
END:VCALENDAR