BEGIN:VCALENDAR
VERSION:2.0
PRODID:-//Agence Dacapo - ECPv6.15.20//NONSGML v1.0//EN
CALSCALE:GREGORIAN
METHOD:PUBLISH
X-WR-CALNAME:Agence Dacapo
X-ORIGINAL-URL:https://www.dacapo-ch.com
X-WR-CALDESC:Évènements pour Agence Dacapo
REFRESH-INTERVAL;VALUE=DURATION:PT1H
X-Robots-Tag:noindex
X-PUBLISHED-TTL:PT1H
BEGIN:VTIMEZONE
TZID:Europe/Paris
BEGIN:DAYLIGHT
TZOFFSETFROM:+0100
TZOFFSETTO:+0200
TZNAME:CEST
DTSTART:20150329T010000
END:DAYLIGHT
BEGIN:STANDARD
TZOFFSETFROM:+0200
TZOFFSETTO:+0100
TZNAME:CET
DTSTART:20151025T010000
END:STANDARD
BEGIN:DAYLIGHT
TZOFFSETFROM:+0100
TZOFFSETTO:+0200
TZNAME:CEST
DTSTART:20160327T010000
END:DAYLIGHT
BEGIN:STANDARD
TZOFFSETFROM:+0200
TZOFFSETTO:+0100
TZNAME:CET
DTSTART:20161030T010000
END:STANDARD
BEGIN:DAYLIGHT
TZOFFSETFROM:+0100
TZOFFSETTO:+0200
TZNAME:CEST
DTSTART:20170326T010000
END:DAYLIGHT
BEGIN:STANDARD
TZOFFSETFROM:+0200
TZOFFSETTO:+0100
TZNAME:CET
DTSTART:20171029T010000
END:STANDARD
END:VTIMEZONE
BEGIN:VEVENT
DTSTART;TZID=Europe/Paris:20160826T200000
DTEND;TZID=Europe/Paris:20160826T220000
DTSTAMP:20260420T182721
CREATED:20160814T231532Z
LAST-MODIFIED:20160826T072921Z
UID:607-1472241600-1472248800@www.dacapo-ch.com
SUMMARY:Nima Sarkechik - Le Triton - URBAN BRAHMS 6ème disque
DESCRIPTION:Le Triton \n11 bis\, rue du Coq Français – 93 260 Les Lilas
URL:https://www.dacapo-ch.com/concert/nima-sarkechik-le-triton-urban-brahms-6eme-disque/
ATTACH;FMTTYPE=image/jpeg:https://www.dacapo-ch.com/wp-content/uploads/2016/08/Credits-Geraldine-Weiss-2-Nima-Sarkechik.jpg
END:VEVENT
END:VCALENDAR