BEGIN:VCALENDAR
VERSION:2.0
PRODID:-//Agence Dacapo - ECPv6.15.20//NONSGML v1.0//EN
CALSCALE:GREGORIAN
METHOD:PUBLISH
X-ORIGINAL-URL:https://www.dacapo-ch.com
X-WR-CALDESC:Évènements pour Agence Dacapo
REFRESH-INTERVAL;VALUE=DURATION:PT1H
X-Robots-Tag:noindex
X-PUBLISHED-TTL:PT1H
BEGIN:VTIMEZONE
TZID:Europe/Paris
BEGIN:DAYLIGHT
TZOFFSETFROM:+0100
TZOFFSETTO:+0200
TZNAME:CEST
DTSTART:20150329T010000
END:DAYLIGHT
BEGIN:STANDARD
TZOFFSETFROM:+0200
TZOFFSETTO:+0100
TZNAME:CET
DTSTART:20151025T010000
END:STANDARD
BEGIN:DAYLIGHT
TZOFFSETFROM:+0100
TZOFFSETTO:+0200
TZNAME:CEST
DTSTART:20160327T010000
END:DAYLIGHT
BEGIN:STANDARD
TZOFFSETFROM:+0200
TZOFFSETTO:+0100
TZNAME:CET
DTSTART:20161030T010000
END:STANDARD
BEGIN:DAYLIGHT
TZOFFSETFROM:+0100
TZOFFSETTO:+0200
TZNAME:CEST
DTSTART:20170326T010000
END:DAYLIGHT
BEGIN:STANDARD
TZOFFSETFROM:+0200
TZOFFSETTO:+0100
TZNAME:CET
DTSTART:20171029T010000
END:STANDARD
END:VTIMEZONE
BEGIN:VEVENT
DTSTART;VALUE=DATE:20161202
DTEND;VALUE=DATE:20161203
DTSTAMP:20260420T110200
CREATED:20160203T090559Z
LAST-MODIFIED:20160927T120943Z
UID:396-1480636800-1480723199@www.dacapo-ch.com
SUMMARY:Les Musicales de Compesières - Solenne Paidassi (violon) et Frédéric Vaysse-Knitte (piano)
DESCRIPTION:Programme : Stravinsky\, Szymanovski\, Ernst/Schubert\, Debussy\, Bazzini
URL:https://www.dacapo-ch.com/concert/les-musicales-de-compesieres-2/
LOCATION:Église de Compesières\, Route de Cugny 99\, Genève\, 1257\, Suisse
CATEGORIES:Les Musicales de Compesières
ATTACH;FMTTYPE=image/jpeg:https://www.dacapo-ch.com/wp-content/uploads/2016/09/Solaine-Païdassi.jpg
ORGANIZER;CN="Agence Da-Capo":MAILTO:info@dacapo-ch.com
END:VEVENT
BEGIN:VEVENT
DTSTART;VALUE=DATE:20161203
DTEND;VALUE=DATE:20161204
DTSTAMP:20260420T110200
CREATED:20160203T090653Z
LAST-MODIFIED:20160817T114711Z
UID:397-1480723200-1480809599@www.dacapo-ch.com
SUMMARY:Les Musicales de Compesières -  La Camerata du Léman
DESCRIPTION:Programme : “La Camerata en Italie” : Corelli\, Respighi\, Tchaikovski
URL:https://www.dacapo-ch.com/concert/camerata-du-leman-6/
LOCATION:Église de Compesières\, Route de Cugny 99\, Genève\, 1257\, Suisse
CATEGORIES:Les Musicales de Compesières
ATTACH;FMTTYPE=image/jpeg:https://www.dacapo-ch.com/wp-content/uploads/2016/02/9751_Komturei-von-Compesieres_2a.jpg
ORGANIZER;CN="Agence Da-Capo":MAILTO:info@dacapo-ch.com
END:VEVENT
BEGIN:VEVENT
DTSTART;VALUE=DATE:20161204
DTEND;VALUE=DATE:20161205
DTSTAMP:20260420T110200
CREATED:20160203T090729Z
LAST-MODIFIED:20160927T120959Z
UID:398-1480809600-1480895999@www.dacapo-ch.com
SUMMARY:Les Musicales de Compesières  -  Choeurs de Cossonay et de la Sarraz  - La Camerata du Léman
DESCRIPTION:Programme :\nM. Haydn : Requiem\nA. Vivaldi : Dixit Dominus
URL:https://www.dacapo-ch.com/concert/camerata-du-leman-7/
LOCATION:Église de Compesières\, Route de Cugny 99\, Genève\, 1257\, Suisse
CATEGORIES:Les Musicales de Compesières
ATTACH;FMTTYPE=image/jpeg:https://www.dacapo-ch.com/wp-content/uploads/2016/09/Léglise-de-Compesières-2.jpg
ORGANIZER;CN="Agence Da-Capo":MAILTO:info@dacapo-ch.com
END:VEVENT
BEGIN:VEVENT
DTSTART;TZID=Europe/Paris:20161217T200000
DTEND;TZID=Europe/Paris:20161218T170000
DTSTAMP:20260420T110200
CREATED:20160817T115033Z
LAST-MODIFIED:20160927T121018Z
UID:659-1482004800-1482080400@www.dacapo-ch.com
SUMMARY:Paris - Bernard Tétu - West Side Story
DESCRIPTION:
URL:https://www.dacapo-ch.com/concert/paris-bernard-tetu-west-side-story/
ATTACH;FMTTYPE=image/jpeg:https://www.dacapo-ch.com/wp-content/uploads/2016/09/Bernard-Tétu-2.jpg
END:VEVENT
BEGIN:VEVENT
DTSTART;VALUE=DATE:20161223
DTEND;VALUE=DATE:20161224
DTSTAMP:20260420T110200
CREATED:20160203T090907Z
LAST-MODIFIED:20160809T162051Z
UID:399-1482451200-1482537599@www.dacapo-ch.com
SUMMARY:Léonie Renaud - Opéra de Lausanne - La Vie Parisienne/Offenbach (Pauline)
DESCRIPTION:Opéra de Lausanne
URL:https://www.dacapo-ch.com/concert/la-vie-parisienneoffenbach-pauline/
LOCATION:Opéra de Lausanne\, Avenue du Theâtre 12\, Lausanne\, 1002\, Suisse
ATTACH;FMTTYPE=image/png:https://www.dacapo-ch.com/wp-content/uploads/2016/02/ev_leonie_renaud.png
ORGANIZER;CN="Agence Da-Capo":MAILTO:info@dacapo-ch.com
END:VEVENT
BEGIN:VEVENT
DTSTART;TZID=Europe/Paris:20161223T190000
DTEND;TZID=Europe/Paris:20161231T230000
DTSTAMP:20260420T110200
CREATED:20160809T162315Z
LAST-MODIFIED:20160818T095109Z
UID:563-1482519600-1483225200@www.dacapo-ch.com
SUMMARY:Léonie Renaud - Opéra de Lausanne - La Vie Parisienne/Offenbach (Pauline)
DESCRIPTION:Rôle de Pauline \nReprésetations : les 23\, 27\, 29\, 30 et 31 décembre 2016 \n 
URL:https://www.dacapo-ch.com/concert/leonie-renaud-opera-de-lausanne-la-vie-parisienneoffenbach-pauline/
ATTACH;FMTTYPE=image/jpeg:https://www.dacapo-ch.com/wp-content/uploads/2016/08/la-vie-parisienne.jpg
END:VEVENT
END:VCALENDAR