BEGIN:VCALENDAR
VERSION:2.0
PRODID:-//Agence Dacapo - ECPv6.15.20//NONSGML v1.0//EN
CALSCALE:GREGORIAN
METHOD:PUBLISH
X-WR-CALNAME:Agence Dacapo
X-ORIGINAL-URL:https://www.dacapo-ch.com
X-WR-CALDESC:Évènements pour Agence Dacapo
REFRESH-INTERVAL;VALUE=DURATION:PT1H
X-Robots-Tag:noindex
X-PUBLISHED-TTL:PT1H
BEGIN:VTIMEZONE
TZID:Europe/Paris
BEGIN:DAYLIGHT
TZOFFSETFROM:+0100
TZOFFSETTO:+0200
TZNAME:CEST
DTSTART:20160327T010000
END:DAYLIGHT
BEGIN:STANDARD
TZOFFSETFROM:+0200
TZOFFSETTO:+0100
TZNAME:CET
DTSTART:20161030T010000
END:STANDARD
BEGIN:DAYLIGHT
TZOFFSETFROM:+0100
TZOFFSETTO:+0200
TZNAME:CEST
DTSTART:20170326T010000
END:DAYLIGHT
BEGIN:STANDARD
TZOFFSETFROM:+0200
TZOFFSETTO:+0100
TZNAME:CET
DTSTART:20171029T010000
END:STANDARD
BEGIN:DAYLIGHT
TZOFFSETFROM:+0100
TZOFFSETTO:+0200
TZNAME:CEST
DTSTART:20180325T010000
END:DAYLIGHT
BEGIN:STANDARD
TZOFFSETFROM:+0200
TZOFFSETTO:+0100
TZNAME:CET
DTSTART:20181028T010000
END:STANDARD
END:VTIMEZONE
BEGIN:VEVENT
DTSTART;TZID=Europe/Paris:20170313T200000
DTEND;TZID=Europe/Paris:20170313T210000
DTSTAMP:20260420T052610
CREATED:20160815T001124Z
LAST-MODIFIED:20160815T001635Z
UID:619-1489435200-1489438800@www.dacapo-ch.com
SUMMARY:Les Sérénades au Palais - Daniel Grosgurin\, violoncelle et Emmanuel Bisang\, linguiste
DESCRIPTION:CONCERT DEBAT – Programme    “Dialogue entre le langage humain et le langage de l’instrument” \n  \nPalais de l’Athénée\, 2 rue de l’Athénée – 1205 GENEVE
URL:https://www.dacapo-ch.com/concert/les-serenades-au-palais-daniel-grosgurn-violoncelle-et-emmanuel-bisang-linguiste/
ATTACH;FMTTYPE=image/jpeg:https://www.dacapo-ch.com/wp-content/uploads/2016/08/cross-violon.jpg
END:VEVENT
BEGIN:VEVENT
DTSTART;TZID=Europe/Paris:20170317T080000
DTEND;TZID=Europe/Paris:20170317T170000
DTSTAMP:20260420T052610
CREATED:20160818T111517Z
LAST-MODIFIED:20160927T121451Z
UID:686-1489737600-1489770000@www.dacapo-ch.com
SUMMARY:Opéra de Reims - Léonie Renaud - Werther de J. Massenet (Sophie)
DESCRIPTION:Opéra de Reims \nReprésentations les 17\, 19 et 21 mars 2017
URL:https://www.dacapo-ch.com/concert/opera-de-reims-leonie-renaud-werther-de-j-massenet-sophie/
ATTACH;FMTTYPE=image/jpeg:https://www.dacapo-ch.com/wp-content/uploads/2016/09/Léonie-Renaud-6.jpg
END:VEVENT
BEGIN:VEVENT
DTSTART;TZID=Europe/Paris:20170317T203000
DTEND;TZID=Europe/Paris:20170317T220000
DTSTAMP:20260420T052610
CREATED:20160815T002821Z
LAST-MODIFIED:20160826T135643Z
UID:621-1489782600-1489788000@www.dacapo-ch.com
SUMMARY:Les Musicales de Compesières - Marielle Nordmann\, harpe et Eduardo Garcia\, bandonéon
DESCRIPTION:Programme : “Encuentro” \n  \nEglise de Compesières – Route de Cugny – 1257 COMPESIERES/GENEVE
URL:https://www.dacapo-ch.com/concert/les-musicales-de-compesieres-marielle-nordmann-harpe-et-eduardo-garcia-bandoneon/
CATEGORIES:Les Musicales de Compesières
ATTACH;FMTTYPE=image/png:https://www.dacapo-ch.com/wp-content/uploads/2016/08/Eduardo-et-Marielle.png
END:VEVENT
BEGIN:VEVENT
DTSTART;TZID=Europe/Paris:20170318T203000
DTEND;TZID=Europe/Paris:20170318T214500
DTSTAMP:20260420T052610
CREATED:20160815T003338Z
LAST-MODIFIED:20160927T121525Z
UID:623-1489869000-1489873500@www.dacapo-ch.com
SUMMARY:Les Musicales de Compesières - La Camerata du Léman
DESCRIPTION:Programme :”Du Salon à la Scène ” – Rameau\, Haydn\, Sibelius\, Janacek \n  \nEglise de Compesières – Route de Cugny – 1257 COMPESIERES/GENEVE \n  \n 
URL:https://www.dacapo-ch.com/concert/les-musicales-de-compesieres-la-camerata-du-leman/
CATEGORIES:Les Musicales de Compesières
ATTACH;FMTTYPE=image/jpeg:https://www.dacapo-ch.com/wp-content/uploads/2016/02/CAMERATA-DU-LEMAN-2015.jpeg
END:VEVENT
BEGIN:VEVENT
DTSTART;TZID=Europe/Paris:20170319T170000
DTEND;TZID=Europe/Paris:20170319T181500
DTSTAMP:20260420T052610
CREATED:20160815T004114Z
LAST-MODIFIED:20160826T135643Z
UID:626-1489942800-1489947300@www.dacapo-ch.com
SUMMARY:Les Musicales de Compesières - Ensemble Vocal de la Schola de Sion - Marc Bochud
DESCRIPTION:Encemble Vocal de la Schola de Sion – Ensemble Instrumental Baroque \nDirection Marc Bochud \nProgramme : A. Campra –  Messe de Requiem \n  \nEglise de Compesières – Route de Cugny – 1257 COMPESIERES/GENEVE
URL:https://www.dacapo-ch.com/concert/les-musicales-de-compesieres-ensemble-vocal-de-la-schola-de-sion-marc-bochud/
CATEGORIES:Les Musicales de Compesières
ATTACH;FMTTYPE=image/jpeg:https://www.dacapo-ch.com/wp-content/uploads/2016/08/marc-bochud-1-1.jpg
END:VEVENT
BEGIN:VEVENT
DTSTART;TZID=Europe/Paris:20170323T200000
DTEND;TZID=Europe/Paris:20170323T210000
DTSTAMP:20260420T052610
CREATED:20160810T141021Z
LAST-MODIFIED:20160826T135625Z
UID:581-1490299200-1490302800@www.dacapo-ch.com
SUMMARY:Les Jeudis du Piano - Victoire Vassilenko (Bulgarie)
DESCRIPTION:en partenariat avec l’Académie du Lac de Côme \n  \nPalais de l’Athénée – Salle des Abeilles \n2\, rue de l’Athénée – 1205 GENEVE
URL:https://www.dacapo-ch.com/concert/les-jeudis-du-piano-victoire-vassilenko-bulgarie/
CATEGORIES:Les Jeudis du Piano
ATTACH;FMTTYPE=image/jpeg:https://www.dacapo-ch.com/wp-content/uploads/2016/08/Victoria-Vassilenko-2-1.jpg
END:VEVENT
BEGIN:VEVENT
DTSTART;TZID=Europe/Paris:20170327T080000
DTEND;TZID=Europe/Paris:20170327T170000
DTSTAMP:20260420T052610
CREATED:20160818T100929Z
LAST-MODIFIED:20160927T121625Z
UID:679-1490601600-1490634000@www.dacapo-ch.com
SUMMARY:Opéra de Lausanne - Léonie Renaud
DESCRIPTION:Ateliers Jeune Public \nAteliers les 27\, 28 et 29 mars 2017
URL:https://www.dacapo-ch.com/concert/opera-de-lausanne-leonie-renaud/
ATTACH;FMTTYPE=image/jpeg:https://www.dacapo-ch.com/wp-content/uploads/2016/09/Léonie-Renaud-7.jpg
END:VEVENT
BEGIN:VEVENT
DTSTART;TZID=Europe/Paris:20170330T080000
DTEND;TZID=Europe/Paris:20170330T170000
DTSTAMP:20260420T052611
CREATED:20160818T101736Z
LAST-MODIFIED:20160927T121642Z
UID:683-1490860800-1490893200@www.dacapo-ch.com
SUMMARY:Bienne - Léonie Renaud - Concert
DESCRIPTION:Avec le Choeur Symphonique de Bienne
URL:https://www.dacapo-ch.com/concert/bienne-leonie-renaud-concert/
ATTACH;FMTTYPE=image/jpeg:https://www.dacapo-ch.com/wp-content/uploads/2016/09/Léonie-Renaud-8.jpg
END:VEVENT
BEGIN:VEVENT
DTSTART;TZID=Europe/Paris:20170331T190000
DTEND;TZID=Europe/Paris:20170331T210000
DTSTAMP:20260420T052611
CREATED:20160817T125144Z
LAST-MODIFIED:20160817T125149Z
UID:665-1490986800-1490994000@www.dacapo-ch.com
SUMMARY:Genève - Bernard Tétu - Am Stram Gram
DESCRIPTION:Théâtre Am Stram Gram \nProgramme : Le Thé des Poissons
URL:https://www.dacapo-ch.com/concert/geneve-bernard-tetu-am-stram-gram/
ATTACH;FMTTYPE=image/png:https://www.dacapo-ch.com/wp-content/uploads/2016/02/ev_bernard_tetu.png
END:VEVENT
END:VCALENDAR