BEGIN:VCALENDAR
VERSION:2.0
PRODID:-//Agence Dacapo - ECPv6.15.20//NONSGML v1.0//EN
CALSCALE:GREGORIAN
METHOD:PUBLISH
X-ORIGINAL-URL:https://www.dacapo-ch.com
X-WR-CALDESC:Évènements pour Agence Dacapo
REFRESH-INTERVAL;VALUE=DURATION:PT1H
X-Robots-Tag:noindex
X-PUBLISHED-TTL:PT1H
BEGIN:VTIMEZONE
TZID:Europe/Paris
BEGIN:DAYLIGHT
TZOFFSETFROM:+0100
TZOFFSETTO:+0200
TZNAME:CEST
DTSTART:20160327T010000
END:DAYLIGHT
BEGIN:STANDARD
TZOFFSETFROM:+0200
TZOFFSETTO:+0100
TZNAME:CET
DTSTART:20161030T010000
END:STANDARD
BEGIN:DAYLIGHT
TZOFFSETFROM:+0100
TZOFFSETTO:+0200
TZNAME:CEST
DTSTART:20170326T010000
END:DAYLIGHT
BEGIN:STANDARD
TZOFFSETFROM:+0200
TZOFFSETTO:+0100
TZNAME:CET
DTSTART:20171029T010000
END:STANDARD
BEGIN:DAYLIGHT
TZOFFSETFROM:+0100
TZOFFSETTO:+0200
TZNAME:CEST
DTSTART:20180325T010000
END:DAYLIGHT
BEGIN:STANDARD
TZOFFSETFROM:+0200
TZOFFSETTO:+0100
TZNAME:CET
DTSTART:20181028T010000
END:STANDARD
END:VTIMEZONE
BEGIN:VEVENT
DTSTART;TZID=Europe/Paris:20170402T080000
DTEND;TZID=Europe/Paris:20170402T170000
DTSTAMP:20260420T034101
CREATED:20160818T105542Z
LAST-MODIFIED:20160927T120240Z
UID:684-1491120000-1491152400@www.dacapo-ch.com
SUMMARY:Lausanne - Léonie Renaud - Opéra
DESCRIPTION:Atelier Jeune Public \nAteliers les 2\, 3 et 4 avril 2017
URL:https://www.dacapo-ch.com/concert/lausanne-leonie-renaud-opera-2/
ATTACH;FMTTYPE=image/jpeg:https://www.dacapo-ch.com/wp-content/uploads/2016/09/Léonie-Renaud-7.jpg
END:VEVENT
BEGIN:VEVENT
DTSTART;TZID=Europe/Paris:20170403T200000
DTEND;TZID=Europe/Paris:20170403T200000
DTSTAMP:20260420T034101
CREATED:20160818T101622Z
LAST-MODIFIED:20160927T121757Z
UID:682-1491249600-1491249600@www.dacapo-ch.com
SUMMARY:Genève - Léonie Renaud - Courbet/Berlioz
DESCRIPTION:Spectacle “Courbet/Berlioz – entre nature et démesure – deux génies en rupture avec l’académisme” \navec les Solistes de Lyon\nDirection Bernard Tétu \nPalais de l’Athénée – Salle des Abeilles\n“Les Sérénades au Palais”
URL:https://www.dacapo-ch.com/concert/geneve-leonie-renaud-courbetberlioz/
ATTACH;FMTTYPE=image/jpeg:https://www.dacapo-ch.com/wp-content/uploads/2016/09/Léonie-Renaud-6.jpg
END:VEVENT
BEGIN:VEVENT
DTSTART;TZID=Europe/Paris:20170403T200000
DTEND;TZID=Europe/Paris:20170403T210000
DTSTAMP:20260420T034101
CREATED:20160809T123000Z
LAST-MODIFIED:20160927T121807Z
UID:542-1491249600-1491253200@www.dacapo-ch.com
SUMMARY:Bernard Tétu et les Solistes de Lyon
DESCRIPTION:En collaboration avec le Musée Courbet d’Ornan \nProgramme : “Courbet/Berlioz\, entre nature et démesure – parallèle entre deux génies en rupture avec l’Académisme” \n  \nPalais de l’Athénée – 2\, rue de l’Athénée – 1205 GENEVE
URL:https://www.dacapo-ch.com/concert/bernard-tetu-et-les-solistes-de-lyon/
LOCATION:Palais de l’Athénée\, Salle des Abeilles\,  GENEVE\, 1205\, Suisse
ATTACH;FMTTYPE=image/jpeg:https://www.dacapo-ch.com/wp-content/uploads/2016/09/Bernard-Tétu-2.jpg
END:VEVENT
BEGIN:VEVENT
DTSTART;TZID=Europe/Paris:20170427T200000
DTEND;TZID=Europe/Paris:20170427T210000
DTSTAMP:20260420T034101
CREATED:20160814T225601Z
LAST-MODIFIED:20160826T135614Z
UID:604-1493323200-1493326800@www.dacapo-ch.com
SUMMARY:Les Jeudis du Piano  -   Victoire-Théodora Pruvost (France)
DESCRIPTION:Palais de l’Athénée – Salle des Abeilles \n2\, rue de l’Athénée – 1205 Genève
URL:https://www.dacapo-ch.com/concert/les-jeudis-du-piano-victoire-theodora-pruvost-france/
CATEGORIES:Les Jeudis du Piano
ATTACH;FMTTYPE=image/jpeg:https://www.dacapo-ch.com/wp-content/uploads/2016/08/Victoire-Theodora-Pruvost-Lace-de-Come.jpeg
END:VEVENT
END:VCALENDAR