BEGIN:VCALENDAR
VERSION:2.0
PRODID:-//Agence Dacapo - ECPv6.15.20//NONSGML v1.0//EN
CALSCALE:GREGORIAN
METHOD:PUBLISH
X-ORIGINAL-URL:https://www.dacapo-ch.com
X-WR-CALDESC:Évènements pour Agence Dacapo
REFRESH-INTERVAL;VALUE=DURATION:PT1H
X-Robots-Tag:noindex
X-PUBLISHED-TTL:PT1H
BEGIN:VTIMEZONE
TZID:Europe/Paris
BEGIN:DAYLIGHT
TZOFFSETFROM:+0100
TZOFFSETTO:+0200
TZNAME:CEST
DTSTART:20160327T010000
END:DAYLIGHT
BEGIN:STANDARD
TZOFFSETFROM:+0200
TZOFFSETTO:+0100
TZNAME:CET
DTSTART:20161030T010000
END:STANDARD
BEGIN:DAYLIGHT
TZOFFSETFROM:+0100
TZOFFSETTO:+0200
TZNAME:CEST
DTSTART:20170326T010000
END:DAYLIGHT
BEGIN:STANDARD
TZOFFSETFROM:+0200
TZOFFSETTO:+0100
TZNAME:CET
DTSTART:20171029T010000
END:STANDARD
BEGIN:DAYLIGHT
TZOFFSETFROM:+0100
TZOFFSETTO:+0200
TZNAME:CEST
DTSTART:20180325T010000
END:DAYLIGHT
BEGIN:STANDARD
TZOFFSETFROM:+0200
TZOFFSETTO:+0100
TZNAME:CET
DTSTART:20181028T010000
END:STANDARD
END:VTIMEZONE
BEGIN:VEVENT
DTSTART;TZID=Europe/Paris:20170505T200000
DTEND;TZID=Europe/Paris:20170521T170000
DTSTAMP:20260420T015512
CREATED:20160817T125358Z
LAST-MODIFIED:20160927T121819Z
UID:666-1494014400-1495386000@www.dacapo-ch.com
SUMMARY:Le Bourget du Lac - Bernard Tétu - Festival "Les Voix du Prieuré"
DESCRIPTION:du 5 au 21 mai 2017 \nFestival en cours de programmation
URL:https://www.dacapo-ch.com/concert/le-bourget-du-lac-bernard-tetu-festival-les-voix-du-prieure/
ATTACH;FMTTYPE=image/jpeg:https://www.dacapo-ch.com/wp-content/uploads/2016/09/Bernard-Tétu-2.jpg
END:VEVENT
BEGIN:VEVENT
DTSTART;TZID=Europe/Paris:20170519T200000
DTEND;TZID=Europe/Paris:20170519T210000
DTSTAMP:20260420T015512
CREATED:20160815T005103Z
LAST-MODIFIED:20160826T135607Z
UID:630-1495224000-1495227600@www.dacapo-ch.com
SUMMARY:Les Musicales de Compesières -  Irina Chkourindina\, piano\, Sophie Graff\, soprano et Alain Carré\, comédien
DESCRIPTION:Programme :  “Rachmaninov l’Exilé – Moscou/Hollywood un aller simple” \n  \nEglise de Compesières – Route de Cugny – 1257 COMPESIERES/GENEVE
URL:https://www.dacapo-ch.com/concert/les-musicales-de-compesieres-irina-chkourindina-piano-sophie-graff-soprano-et-alain-carre-comedien/
CATEGORIES:Les Musicales de Compesières
ATTACH;FMTTYPE=image/jpeg:https://www.dacapo-ch.com/wp-content/uploads/2016/08/Irina-Chkourindina-1.jpg
END:VEVENT
BEGIN:VEVENT
DTSTART;TZID=Europe/Paris:20170520T203000
DTEND;TZID=Europe/Paris:20170520T214500
DTSTAMP:20260420T015512
CREATED:20160815T005307Z
LAST-MODIFIED:20160826T135601Z
UID:632-1495312200-1495316700@www.dacapo-ch.com
SUMMARY:Les  Musicales de Compesières - La Camerata du Léman
DESCRIPTION:Programme : ” Contes et Images”  – Vivaldi\, Grieg\, Fauré\, Moussorgski
URL:https://www.dacapo-ch.com/concert/les-musicales-de-compesieres-la-camerata-du-leman-2/
CATEGORIES:Les Musicales de Compesières
ATTACH;FMTTYPE=image/jpeg:https://www.dacapo-ch.com/wp-content/uploads/2016/02/CdL-fun-Camerata-18-mars-2015.jpg
END:VEVENT
BEGIN:VEVENT
DTSTART;TZID=Europe/Paris:20170521T170000
DTEND;TZID=Europe/Paris:20170521T180000
DTSTAMP:20260420T015512
CREATED:20160815T005720Z
LAST-MODIFIED:20160826T135555Z
UID:633-1495386000-1495389600@www.dacapo-ch.com
SUMMARY:Les Musicales de Compesières - Sa'Voie Gospel  - Hans-Edouard Edmond
DESCRIPTION:Programme : \n  \n  \nEglise de Compesières – Route de Cugny – 1257 COMPESIERES/GENEVE
URL:https://www.dacapo-ch.com/concert/les-musicales-de-compesieres-savoie-gospel-hans-edouard-edmond/
CATEGORIES:Les Musicales de Compesières
ATTACH;FMTTYPE=image/jpeg:https://www.dacapo-ch.com/wp-content/uploads/2016/08/SaVoie-Gospel.jpg
END:VEVENT
BEGIN:VEVENT
DTSTART;TZID=Europe/Paris:20170528T160000
DTEND;TZID=Europe/Paris:20170528T190000
DTSTAMP:20260420T015512
CREATED:20160817T125712Z
LAST-MODIFIED:20160927T121855Z
UID:667-1495987200-1495998000@www.dacapo-ch.com
SUMMARY:Thonon les Bains - Bernard Tétu
DESCRIPTION:Programme : B. Britten – Cantate de St Nicolas \nen collaboration avec les chorales de la région et la MAL de Thonon les Bains
URL:https://www.dacapo-ch.com/concert/thonon-les-bains-bernard-tetu/
ATTACH;FMTTYPE=image/jpeg:https://www.dacapo-ch.com/wp-content/uploads/2016/09/Bernard-Tétu-2.jpg
END:VEVENT
END:VCALENDAR