BEGIN:VCALENDAR
VERSION:2.0
PRODID:-//Agence Dacapo - ECPv6.15.20//NONSGML v1.0//EN
CALSCALE:GREGORIAN
METHOD:PUBLISH
X-WR-CALNAME:Agence Dacapo
X-ORIGINAL-URL:https://www.dacapo-ch.com
X-WR-CALDESC:Évènements pour Agence Dacapo
REFRESH-INTERVAL;VALUE=DURATION:PT1H
X-Robots-Tag:noindex
X-PUBLISHED-TTL:PT1H
BEGIN:VTIMEZONE
TZID:Europe/Paris
BEGIN:DAYLIGHT
TZOFFSETFROM:+0100
TZOFFSETTO:+0200
TZNAME:CEST
DTSTART:20160327T010000
END:DAYLIGHT
BEGIN:STANDARD
TZOFFSETFROM:+0200
TZOFFSETTO:+0100
TZNAME:CET
DTSTART:20161030T010000
END:STANDARD
BEGIN:DAYLIGHT
TZOFFSETFROM:+0100
TZOFFSETTO:+0200
TZNAME:CEST
DTSTART:20170326T010000
END:DAYLIGHT
BEGIN:STANDARD
TZOFFSETFROM:+0200
TZOFFSETTO:+0100
TZNAME:CET
DTSTART:20171029T010000
END:STANDARD
BEGIN:DAYLIGHT
TZOFFSETFROM:+0100
TZOFFSETTO:+0200
TZNAME:CEST
DTSTART:20180325T010000
END:DAYLIGHT
BEGIN:STANDARD
TZOFFSETFROM:+0200
TZOFFSETTO:+0100
TZNAME:CET
DTSTART:20181028T010000
END:STANDARD
END:VTIMEZONE
BEGIN:VEVENT
DTSTART;VALUE=DATE:20171115
DTEND;VALUE=DATE:20171116
DTSTAMP:20260419T153504
CREATED:20171024T135935Z
LAST-MODIFIED:20171024T140639Z
UID:1053-1510704000-1510790399@www.dacapo-ch.com
SUMMARY:Damien Ventula et Orchestre Colonne
DESCRIPTION:
URL:https://www.dacapo-ch.com/concert/damien-ventula-orchestre-colonne/
LOCATION:Paris – Institut Français
ATTACH;FMTTYPE=image/jpeg:https://www.dacapo-ch.com/wp-content/uploads/2017/10/Damien-Ventula_Caroline_Doutre_web.jpg
END:VEVENT
BEGIN:VEVENT
DTSTART;TZID=Europe/Paris:20171117T203000
DTEND;TZID=Europe/Paris:20171117T203000
DTSTAMP:20260419T153504
CREATED:20171005T203700Z
LAST-MODIFIED:20171024T132959Z
UID:971-1510950600-1510950600@www.dacapo-ch.com
SUMMARY:Les Musicales de Compesières - Duo Granat - Tamara Granat et Adrian Kreda
DESCRIPTION:Programmes : Mozart – Sonates à 4 mains
URL:https://www.dacapo-ch.com/concert/musicales-de-compesieres-duo-granat-tamara-granat-adrian-kreda/
LOCATION:Église de Compesières\, Route de Cugny 99\, Genève\, 1257\, Suisse
ATTACH;FMTTYPE=image/jpeg:https://www.dacapo-ch.com/wp-content/uploads/2016/01/Duo-Saurat-2.jpg
END:VEVENT
BEGIN:VEVENT
DTSTART;TZID=Europe/Paris:20171118T200000
DTEND;TZID=Europe/Paris:20171118T200000
DTSTAMP:20260419T153504
CREATED:20171024T141033Z
LAST-MODIFIED:20171024T141439Z
UID:1059-1511035200-1511035200@www.dacapo-ch.com
SUMMARY:Damien Ventula et Orchestre Colonne
DESCRIPTION:CHAYNES – CONCERTO POUR VIOLONCELLE\nRAVEL – RHAPSODIE ESPAGNOLE\nBEETHOVEN – SYMPHONIE N°4
URL:https://www.dacapo-ch.com/concert/damien-ventula-orchestre-colonne-2/
LOCATION:Paris – Salle Wagram
ATTACH;FMTTYPE=image/jpeg:https://www.dacapo-ch.com/wp-content/uploads/2017/10/Damien-Ventula_Caroline_Doutre_web.jpg
END:VEVENT
BEGIN:VEVENT
DTSTART;TZID=Europe/Paris:20171118T203000
DTEND;TZID=Europe/Paris:20171118T203000
DTSTAMP:20260419T153504
CREATED:20171005T204038Z
LAST-MODIFIED:20171024T134441Z
UID:973-1511037000-1511037000@www.dacapo-ch.com
SUMMARY:Les Musicales de Compesières - Ensemble Microcosme - Directeur artistique : Patrice Fontanarosa\, violon
DESCRIPTION:Programme : Corelli\, Bach\, Tartini\, Verdi
URL:https://www.dacapo-ch.com/concert/ensemble-microcosme-directeur-artistique-patrice-fontanarosa-violon/
LOCATION:Église de Compesières\, Route de Cugny 99\, Genève\, 1257\, Suisse
ATTACH;FMTTYPE=image/jpeg:https://www.dacapo-ch.com/wp-content/uploads/2017/10/Microcosme.jpg
END:VEVENT
BEGIN:VEVENT
DTSTART;TZID=Europe/Paris:20171119T170000
DTEND;TZID=Europe/Paris:20171119T170000
DTSTAMP:20260419T153504
CREATED:20171005T204342Z
LAST-MODIFIED:20171024T133147Z
UID:975-1511110800-1511110800@www.dacapo-ch.com
SUMMARY:Les Musicales de Compesières - Choeur de Pontverre - Direction : Marie-Isabelle Pernoud
DESCRIPTION:Programme : Martin Palmeri  – Missatango
URL:https://www.dacapo-ch.com/concert/choeur-de-pontverre-direction-marie-isabelle-pernoud/
LOCATION:Église de Compesières\, Route de Cugny 99\, Genève\, 1257\, Suisse
ATTACH;FMTTYPE=image/jpeg:https://www.dacapo-ch.com/wp-content/uploads/2017/10/pontverre-0349-743.jpg
END:VEVENT
BEGIN:VEVENT
DTSTART;TZID=Europe/Paris:20171130T200000
DTEND;TZID=Europe/Paris:20171130T220000
DTSTAMP:20260419T153504
CREATED:20171005T193907Z
LAST-MODIFIED:20171005T194045Z
UID:957-1512072000-1512079200@www.dacapo-ch.com
SUMMARY:Les Jeudis du Piano - Julian Pflugmann (Allemagne)
DESCRIPTION:
URL:https://www.dacapo-ch.com/concert/jeudis-piano-julian-pflugmann-allemagne/
LOCATION:Palais de l’Athénée\, Salle des Abeilles\,  GENEVE\, 1205\, Suisse
ATTACH;FMTTYPE=image/jpeg:https://www.dacapo-ch.com/wp-content/uploads/2017/10/Julian-Pflugmann_OK-230x366.jpg
END:VEVENT
END:VCALENDAR